BEGIN:VCALENDAR
VERSION:2.0
PRODID:-//wp-events-plugin.com//7.2.3.1//EN
TZID:America/New_York
X-WR-TIMEZONE:America/New_York
BEGIN:VEVENT
UID:1548@marriagetakeover.com
DTSTART;TZID=America/New_York:20250305T200000
DTEND;TZID=America/New_York:20250305T200000
DTSTAMP:20231117T165346Z
URL:https://www.marriagetakeover.com/events/wifes-lounge-2025-03-05/
SUMMARY:Wife's Lounge
DESCRIPTION:As women\, we do a lot. We’re mothers and we wear many hats t
 o ensure nothing falls to the ground while maintaining a career\, nurturin
 g and mothering our children\, trying to be supportive to our spouses\, an
 d take care of ourselves last. The Wife’s Lounge is the space for us to 
 put ourselves first\, to share\, laugh\, cry\, encourage each other\, and 
 build each other up so we can be the best wives God has called us to be. W
 ife’s Lounge takes place once a month virtually.
CATEGORIES:Members Only
LOCATION:https://marriagetakeover.com/membership
END:VEVENT
BEGIN:VTIMEZONE
TZID:America/New_York
X-LIC-LOCATION:America/New_York
BEGIN:STANDARD
DTSTART:20241103T010000
TZOFFSETFROM:-0400
TZOFFSETTO:-0500
TZNAME:EST
END:STANDARD
END:VTIMEZONE
END:VCALENDAR